BEGIN:VCALENDAR
VERSION:2.0
PRODID:-//Sabre//Sabre VObject 4.5.8//EN
CALSCALE:GREGORIAN
BEGIN:VEVENT
UID:sabre-vobject-d02dc547-82c6-49ac-93fe-2e1508f65007
DTSTAMP:20260426T032240Z
SUMMARY:Besinnliches Adventskonzert
DESCRIPTION:https://pg-eggenthal.de/besinnliches-adventskonzert_id30572
DTSTART;TZID=Europe/Berlin:20251207T183000
DURATION:PT30M
LOCATION:Kirche St. Wolfgang Blöcktach\, Schwarzenburgstraße 8\, 87654 Bl
 öcktach Friesenried
END:VEVENT
END:VCALENDAR
