BEGIN:VCALENDAR
VERSION:2.0
PRODID:-//Sabre//Sabre VObject 4.5.8//EN
CALSCALE:GREGORIAN
BEGIN:VEVENT
UID:sabre-vobject-b28f78d9-509d-427c-a44d-07daf5dad7ec
DTSTAMP:20260426T003016Z
SUMMARY:Besinnlicher Advent - Im Klang der Kirche
DESCRIPTION:https://pg-eggenthal.de/besinnlicher-advent-im-klang-der-kirche
 _id30573
DTSTART;TZID=Europe/Berlin:20251214T163000
DURATION:PT30M
LOCATION:Friedhofskirche St. Bartholomä\, St. Bartholomä 1\, 87654 Friese
 nried
END:VEVENT
END:VCALENDAR
