BEGIN:VCALENDAR
VERSION:2.0
PRODID:-//Sabre//Sabre VObject 4.5.8//EN
CALSCALE:GREGORIAN
BEGIN:VEVENT
UID:sabre-vobject-22b67666-79ef-4fc9-9e5b-a35678c09261
DTSTAMP:20260425T213216Z
SUMMARY:Abendmusik zum 4. Advent
DESCRIPTION:https://pg-eggenthal.de/abendmusik-zum-4-advent_id30574
DTSTART;TZID=Europe/Berlin:20251220T193000
DURATION:PT30M
LOCATION:Kirche St. Joseph Friesenried\, Hauptstr. 34\, 87654 Friesenried
END:VEVENT
END:VCALENDAR
