BEGIN:VCALENDAR
VERSION:2.0
PRODID:-//Sabre//Sabre VObject 4.5.8//EN
CALSCALE:GREGORIAN
BEGIN:VEVENT
UID:sabre-vobject-9eb0d872-a897-4630-b278-5d65370cad09
DTSTAMP:20260425T225446Z
SUMMARY:Abend der Versöhnung
DESCRIPTION:https://pg-eggenthal.de/abend-der-versoehnung_id30901
DTSTART;TZID=Europe/Berlin:20251214T180000
DTEND;TZID=Europe/Berlin:20251214T200000
LOCATION:Kirche St. Joseph Friesenried\, Hauptstr. 34\, 87654 Friesenried
END:VEVENT
END:VCALENDAR
