BEGIN:VCALENDAR
VERSION:2.0
PRODID:-//Sabre//Sabre VObject 4.5.8//EN
CALSCALE:GREGORIAN
BEGIN:VEVENT
UID:sabre-vobject-84647ba4-f45e-44ea-bd2a-ce8f2416699b
DTSTAMP:20260426T015602Z
SUMMARY:"Hoigate" im Pfarrstüble
DESCRIPTION:https://pg-eggenthal.de/hoigate-im-pfarrstueble_id31048
DTSTART;TZID=Europe/Berlin:20251213T140000
DTEND;TZID=Europe/Berlin:20251213T170000
LOCATION:Pfarrhof Friesenried\, Salenwanger Str. 18\, 87654 Friesenried
END:VEVENT
END:VCALENDAR
