BEGIN:VCALENDAR
VERSION:2.0
PRODID:-//Sabre//Sabre VObject 4.5.8//EN
CALSCALE:GREGORIAN
BEGIN:VEVENT
UID:sabre-vobject-2765b79a-0ae3-42ec-9a0d-90e4ae0cbdf7
DTSTAMP:20260425T200419Z
SUMMARY:Konzert am Faschings-Samstag "Die heitere Orgel"
DESCRIPTION:https://pg-eggenthal.de/konzert-am-faschings-samstag-die-heiter
 e-orgel_id35595
DTSTART;TZID=Europe/Berlin:20260214T160000
DURATION:PT30M
END:VEVENT
END:VCALENDAR
