BEGIN:VCALENDAR
VERSION:2.0
PRODID:-//Sabre//Sabre VObject 4.5.8//EN
CALSCALE:GREGORIAN
BEGIN:VEVENT
UID:sabre-vobject-917c1ab4-3b34-4079-bcf6-3e7a4017db84
DTSTAMP:20260421T181037Z
SUMMARY:Sterberosenkranz für Katharina Heckel
DESCRIPTION:https://pg-eggenthal.de/sterberosenkranz-fuer-katharina-heckel_
 id43785
DTSTART;TZID=Europe/Berlin:20260418T100000
DURATION:PT30M
LOCATION:Kirche St. Afra Eggenthal\, Kirchenstraße 10\, 87653 Eggenthal
END:VEVENT
END:VCALENDAR
