BEGIN:VCALENDAR
VERSION:2.0
PRODID:-//Sabre//Sabre VObject 4.5.8//EN
CALSCALE:GREGORIAN
BEGIN:VEVENT
UID:sabre-vobject-f72836c6-4619-42c9-aa83-fde27fb99fbe
DTSTAMP:20260421T163053Z
SUMMARY:Requiem u. Urnenbeisetzung von Katharina Heckel
DESCRIPTION:https://pg-eggenthal.de/requiem-u-urnenbeisetzung-von-katharina
 -heckel_id43786
DTSTART;TZID=Europe/Berlin:20260418T103000
DURATION:PT30M
LOCATION:Kirche St. Afra Eggenthal\, Kirchenstraße 10\, 87653 Eggenthal
END:VEVENT
END:VCALENDAR
