BEGIN:VCALENDAR
VERSION:2.0
PRODID:-//Sabre//Sabre VObject 4.5.8//EN
CALSCALE:GREGORIAN
BEGIN:VEVENT
UID:sabre-vobject-98282831-8231-472b-93e2-e9b1f057d251
DTSTAMP:20260420T035744Z
SUMMARY:Beichtgelegenheit
DESCRIPTION:https://pg-eggenthal.de/beichtgelegenheit_id43789
DTSTART;TZID=Europe/Berlin:20260502T184500
DURATION:PT30M
LOCATION:Kirche St. Johannes Baptist Baisweil\, St.-Johannes-Straße 3\, 87
 650 Baisweil
END:VEVENT
END:VCALENDAR
