BEGIN:VCALENDAR
VERSION:2.0
PRODID:-//Sabre//Sabre VObject 4.5.8//EN
CALSCALE:GREGORIAN
BEGIN:VEVENT
UID:sabre-vobject-706fd2bc-55a0-49bd-adfc-52d5c4735393
DTSTAMP:20260420T022146Z
SUMMARY:Vorabendmesse zum Sonntag
DESCRIPTION:https://pg-eggenthal.de/vorabendmesse-zum-sonntag_id43790
DTSTART;TZID=Europe/Berlin:20260502T191500
DURATION:PT30M
LOCATION:Kirche St. Johannes Baptist Baisweil\, St.-Johannes-Straße 3\, 87
 650 Baisweil
END:VEVENT
END:VCALENDAR
