BEGIN:VCALENDAR
VERSION:2.0
PRODID:-//Sabre//Sabre VObject 4.5.8//EN
CALSCALE:GREGORIAN
BEGIN:VEVENT
UID:sabre-vobject-a9e3d024-e07e-4c68-a46b-f5f0b0921f6b
DTSTAMP:20260419T131451Z
SUMMARY:Rosenkranz zu Ehren der Mutter Gottes
DESCRIPTION:https://pg-eggenthal.de/rosenkranz-zu-ehren-der-mutter-gottes_i
 d43791
DTSTART;TZID=Europe/Berlin:20260505T090000
DURATION:PT30M
LOCATION:Kirche St. Johannes Baptist Baisweil\, St.-Johannes-Straße 3\, 87
 650 Baisweil
END:VEVENT
END:VCALENDAR
