BEGIN:VCALENDAR
VERSION:2.0
PRODID:-//Sabre//Sabre VObject 4.5.8//EN
CALSCALE:GREGORIAN
BEGIN:VEVENT
UID:sabre-vobject-c3081d21-e781-46fc-b734-fcbdb4d07e8a
DTSTAMP:20260419T142545Z
SUMMARY:Festgottesdienst zum Hochfest anschl. Flurumgang
DESCRIPTION:https://pg-eggenthal.de/festgottesdienst-zum-hochfest-anschl-fl
 urumgang_id43797
DTSTART;TZID=Europe/Berlin:20260514T180000
DURATION:PT30M
LOCATION:Kirche St. Johannes Baptist Baisweil\, St.-Johannes-Straße 3\, 87
 650 Baisweil
END:VEVENT
END:VCALENDAR
