BEGIN:VCALENDAR
VERSION:2.0
PRODID:-//Sabre//Sabre VObject 4.5.8//EN
CALSCALE:GREGORIAN
BEGIN:VEVENT
UID:sabre-vobject-f7cbc98b-2600-42f7-bb1e-1c34ab410666
DTSTAMP:20260419T143716Z
SUMMARY:Pfarrgottesdienst mit Erstkommunionfeier
DESCRIPTION:https://pg-eggenthal.de/pfarrgottesdienst-mit-erstkommunionfeie
 r_id43799
DTSTART;TZID=Europe/Berlin:20260503T100000
DURATION:PT30M
LOCATION:Kirche St. Nikolaus Bayersried\, Bayersried 30\, 87653 Bayersried
END:VEVENT
END:VCALENDAR
