BEGIN:VCALENDAR
VERSION:2.0
PRODID:-//Sabre//Sabre VObject 4.5.8//EN
CALSCALE:GREGORIAN
BEGIN:VEVENT
UID:sabre-vobject-f9742344-4839-4a14-ba8f-4ab67a38a338
DTSTAMP:20260419T075242Z
SUMMARY:"Ewige Anbetung"\n Aussetzung des Allerheiligsten - Rosenkranz - Eu
 charistische Andacht - Eucharistischer Segen
DESCRIPTION:https://pg-eggenthal.de/ewige-anbetung-aussetzung-des-allerheil
 igsten-rosenkranz-eucharistische-andacht-eucharistischer-segen_id43800
DTSTART;TZID=Europe/Berlin:20260504T184500
DURATION:PT30M
LOCATION:Kirche St. Nikolaus Bayersried\, Bayersried 30\, 87653 Bayersried
END:VEVENT
END:VCALENDAR
