BEGIN:VCALENDAR
VERSION:2.0
PRODID:-//Sabre//Sabre VObject 4.5.8//EN
CALSCALE:GREGORIAN
BEGIN:VEVENT
UID:sabre-vobject-4d16a078-7a3a-4c62-a3fc-fbc3f225f032
DTSTAMP:20260419T143820Z
SUMMARY:Hl. Messe
DESCRIPTION:https://pg-eggenthal.de/hl-messe_id43801
DTSTART;TZID=Europe/Berlin:20260504T191500
DURATION:PT30M
LOCATION:Kirche St. Nikolaus Bayersried\, Bayersried 30\, 87653 Bayersried
END:VEVENT
END:VCALENDAR
