BEGIN:VCALENDAR
VERSION:2.0
PRODID:-//Sabre//Sabre VObject 4.5.8//EN
CALSCALE:GREGORIAN
BEGIN:VEVENT
UID:sabre-vobject-9d5e3e95-8be9-4621-a9ef-48cdafbe409c
DTSTAMP:20260419T143942Z
SUMMARY:Bittgang zur Grotte  - Treffpunkt am Dorfplatz (bei gutem Wetter)
DESCRIPTION:https://pg-eggenthal.de/bittgang-zur-grotte-treffpunkt-am-dorfp
 latz-bei-gutem-wetter_id43804
DTSTART;TZID=Europe/Berlin:20260511T191000
DURATION:PT30M
LOCATION:Kirche St. Nikolaus Bayersried\, Bayersried 30\, 87653 Bayersried
END:VEVENT
END:VCALENDAR
