BEGIN:VCALENDAR
VERSION:2.0
PRODID:-//Sabre//Sabre VObject 4.5.8//EN
CALSCALE:GREGORIAN
BEGIN:VEVENT
UID:sabre-vobject-35ba3a5e-c624-4e38-bd70-09d7f7b0f847
DTSTAMP:20260420T074923Z
SUMMARY:Trauung in der Seelenkapelle Reiter Markus - Geier Amanda
DESCRIPTION:https://pg-eggenthal.de/trauung-in-der-seelenkapelle-reiter-mar
 kus-geier-amanda_id43810
DTSTART;TZID=Europe/Berlin:20260502T113000
DURATION:PT30M
LOCATION:Kirche St. Afra Eggenthal\, Kirchenstraße 10\, 87653 Eggenthal
END:VEVENT
END:VCALENDAR
