BEGIN:VCALENDAR
VERSION:2.0
PRODID:-//Sabre//Sabre VObject 4.5.8//EN
CALSCALE:GREGORIAN
BEGIN:VEVENT
UID:sabre-vobject-431e4d93-8e13-48ed-bffd-459ea33c46dc
DTSTAMP:20260419T231400Z
SUMMARY:Pfarrgottesdienst
DESCRIPTION:https://pg-eggenthal.de/pfarrgottesdienst_id43811
DTSTART;TZID=Europe/Berlin:20260503T083000
DURATION:PT30M
LOCATION:Kirche St. Afra Eggenthal\, Kirchenstraße 10\, 87653 Eggenthal
END:VEVENT
END:VCALENDAR
