BEGIN:VCALENDAR
VERSION:2.0
PRODID:-//Sabre//Sabre VObject 4.5.8//EN
CALSCALE:GREGORIAN
BEGIN:VEVENT
UID:sabre-vobject-acd61ec8-d3a0-4253-81ea-a1fd36807ccd
DTSTAMP:20260419T062646Z
SUMMARY:"Ewige Anbetung"\n Aussetzung des Allerheiligsten - Rosenkranz - Eu
 charistische Andacht - Eucharistischer Segen
DESCRIPTION:https://pg-eggenthal.de/ewige-anbetung-aussetzung-des-allerheil
 igsten-rosenkranz-eucharistische-andacht-eucharistischer-segen_id43812
DTSTART;TZID=Europe/Berlin:20260503T130000
DURATION:PT30M
LOCATION:Kirche St. Afra Eggenthal\, Kirchenstraße 10\, 87653 Eggenthal
END:VEVENT
END:VCALENDAR
