BEGIN:VCALENDAR
VERSION:2.0
PRODID:-//Sabre//Sabre VObject 4.5.8//EN
CALSCALE:GREGORIAN
BEGIN:VEVENT
UID:sabre-vobject-e3cb549b-d8d7-47f8-8f1a-1f7a5182cce9
DTSTAMP:20260419T142228Z
SUMMARY:Bittgang zu einem Feldkreuz
DESCRIPTION:https://pg-eggenthal.de/bittgang-zu-einem-feldkreuz_id43818
DTSTART;TZID=Europe/Berlin:20260511T191500
DURATION:PT30M
LOCATION:Kirche St. Wolfgang Blöcktach\, Schwarzenburgstraße 8\, 87654 Bl
 öcktach Friesenried
END:VEVENT
END:VCALENDAR
