BEGIN:VCALENDAR
VERSION:2.0
PRODID:-//Sabre//Sabre VObject 4.5.8//EN
CALSCALE:GREGORIAN
BEGIN:VEVENT
UID:sabre-vobject-bbea42bb-1dee-4edc-9c97-38cc7666b75a
DTSTAMP:20260419T131501Z
SUMMARY:Bittgang von Romatsried nach Blöcktach (bei gutem Wetter)
DESCRIPTION:https://pg-eggenthal.de/bittgang-von-romatsried-nach-bloecktach
 -bei-gutem-wetter_id43819
DTSTART;TZID=Europe/Berlin:20260512T184500
DURATION:PT30M
LOCATION:Kirche St. Wolfgang Blöcktach\, Schwarzenburgstraße 8\, 87654 Bl
 öcktach Friesenried
END:VEVENT
END:VCALENDAR
