BEGIN:VCALENDAR
VERSION:2.0
PRODID:-//Sabre//Sabre VObject 4.5.8//EN
CALSCALE:GREGORIAN
BEGIN:VEVENT
UID:sabre-vobject-63490635-434d-47ad-b7b2-393f94613b42
DTSTAMP:20260419T142600Z
SUMMARY:Rosenkranz um gute Witterung
DESCRIPTION:https://pg-eggenthal.de/rosenkranz-um-gute-witterung_id43821
DTSTART;TZID=Europe/Berlin:20260513T080000
DURATION:PT30M
LOCATION:Kirche St. Wolfgang Blöcktach\, Schwarzenburgstraße 8\, 87654 Bl
 öcktach Friesenried
END:VEVENT
END:VCALENDAR
