BEGIN:VCALENDAR
VERSION:2.0
PRODID:-//Sabre//Sabre VObject 4.5.8//EN
CALSCALE:GREGORIAN
BEGIN:VEVENT
UID:sabre-vobject-6c6e02af-e442-4752-8929-fbbdcb7433f3
DTSTAMP:20260420T003159Z
SUMMARY:Festgottesdienst in Friesenried
DESCRIPTION:https://pg-eggenthal.de/festgottesdienst-in-friesenried_id43822
DTSTART;TZID=Europe/Berlin:20260514T000000
DURATION:PT30M
LOCATION:Kirche St. Wolfgang Blöcktach\, Schwarzenburgstraße 8\, 87654 Bl
 öcktach Friesenried
END:VEVENT
END:VCALENDAR
