BEGIN:VCALENDAR
VERSION:2.0
PRODID:-//Sabre//Sabre VObject 4.5.8//EN
CALSCALE:GREGORIAN
BEGIN:VEVENT
UID:sabre-vobject-77401ea4-7b16-409c-a941-e8e818eabfb9
DTSTAMP:20260419T144450Z
SUMMARY:Rosenkranz um gute Witterung
DESCRIPTION:https://pg-eggenthal.de/rosenkranz-um-gute-witterung_id43823
DTSTART;TZID=Europe/Berlin:20260515T080000
DURATION:PT30M
LOCATION:Kirche St. Wolfgang Blöcktach\, Schwarzenburgstraße 8\, 87654 Bl
 öcktach Friesenried
END:VEVENT
END:VCALENDAR
