BEGIN:VCALENDAR
VERSION:2.0
PRODID:-//Sabre//Sabre VObject 4.5.8//EN
CALSCALE:GREGORIAN
BEGIN:VEVENT
UID:sabre-vobject-51270338-dbe5-43f8-b7e7-f5c8ad64c488
DTSTAMP:20260419T144433Z
SUMMARY:"Singen macht Spaß" im Pfarrheim
DESCRIPTION:https://pg-eggenthal.de/singen-macht-spass-im-pfarrheim_id43826
DTSTART;TZID=Europe/Berlin:20260508T193000
DURATION:PT30M
LOCATION:Pfarrheim Eggenthal\, Römerstr. 8\, 87653 Eggenthal
END:VEVENT
END:VCALENDAR
