BEGIN:VCALENDAR
VERSION:2.0
PRODID:-//Sabre//Sabre VObject 4.5.8//EN
CALSCALE:GREGORIAN
BEGIN:VEVENT
UID:sabre-vobject-e5c258d0-cc1e-4b5f-b480-8de284759cd8
DTSTAMP:20260419T133211Z
SUMMARY:Unterhaltungs-Nachmittag im Pfarrheim
DESCRIPTION:https://pg-eggenthal.de/unterhaltungs-nachmittag-im-pfarrheim_i
 d43829
DTSTART;TZID=Europe/Berlin:20260512T140000
DURATION:PT30M
LOCATION:Pfarrheim Eggenthal\, Römerstr. 8\, 87653 Eggenthal
END:VEVENT
END:VCALENDAR
