BEGIN:VCALENDAR
VERSION:2.0
PRODID:-//Sabre//Sabre VObject 4.5.8//EN
CALSCALE:GREGORIAN
BEGIN:VEVENT
UID:sabre-vobject-624dcc2f-18f0-48b3-958a-7184efe0f689
DTSTAMP:20260419T231106Z
SUMMARY:Bitt-Messe in der Marien-Seelenkapelle
DESCRIPTION:https://pg-eggenthal.de/bitt-messe-in-der-marien-seelenkapelle_
 id43830
DTSTART;TZID=Europe/Berlin:20260513T090000
DURATION:PT30M
LOCATION:Kirche St. Afra Eggenthal\, Kirchenstraße 10\, 87653 Eggenthal
END:VEVENT
END:VCALENDAR
