BEGIN:VCALENDAR
VERSION:2.0
PRODID:-//Sabre//Sabre VObject 4.5.8//EN
CALSCALE:GREGORIAN
BEGIN:VEVENT
UID:sabre-vobject-ed4d47cd-5bce-4bc9-8f64-0d9a9795672d
DTSTAMP:20260419T143142Z
SUMMARY:Festgottesdienst zum Hochfest anschl. Flurumgang
DESCRIPTION:https://pg-eggenthal.de/festgottesdienst-zum-hochfest-anschl-fl
 urumgang_id43831
DTSTART;TZID=Europe/Berlin:20260514T090000
DURATION:PT30M
LOCATION:Kirche St. Afra Eggenthal\, Kirchenstraße 10\, 87653 Eggenthal
END:VEVENT
END:VCALENDAR
