BEGIN:VCALENDAR
VERSION:2.0
PRODID:-//Sabre//Sabre VObject 4.5.8//EN
CALSCALE:GREGORIAN
BEGIN:VEVENT
UID:sabre-vobject-b80c6b34-12de-49fd-b5c0-92280b62f55c
DTSTAMP:20260419T144102Z
SUMMARY:Hl. Messe
DESCRIPTION:https://pg-eggenthal.de/hl-messe_id43832
DTSTART;TZID=Europe/Berlin:20260515T191500
DURATION:PT30M
LOCATION:Kirche St. Afra Eggenthal\, Kirchenstraße 10\, 87653 Eggenthal
END:VEVENT
END:VCALENDAR
