BEGIN:VCALENDAR
VERSION:2.0
PRODID:-//Sabre//Sabre VObject 4.5.8//EN
CALSCALE:GREGORIAN
BEGIN:VEVENT
UID:sabre-vobject-712d48c6-9624-4534-b44a-5f6234fd9670
DTSTAMP:20260419T223918Z
SUMMARY:Rosenkranz zu Ehren der Mutter Gottes
DESCRIPTION:https://pg-eggenthal.de/rosenkranz-zu-ehren-der-mutter-gottes_i
 d43836
DTSTART;TZID=Europe/Berlin:20260506T081500
DURATION:PT30M
LOCATION:Kirche St. Joseph Friesenried\, Hauptstr. 34\, 87654 Friesenried
END:VEVENT
END:VCALENDAR
