BEGIN:VCALENDAR
VERSION:2.0
PRODID:-//Sabre//Sabre VObject 4.5.8//EN
CALSCALE:GREGORIAN
BEGIN:VEVENT
UID:sabre-vobject-939ea659-60c0-4997-9ce4-787ab3e2d939
DTSTAMP:20260420T070642Z
SUMMARY:Hl. Messe in Aschthal
DESCRIPTION:https://pg-eggenthal.de/hl-messe-in-aschthal_id43837
DTSTART;TZID=Europe/Berlin:20260507T191500
DURATION:PT30M
LOCATION:Kirche St. Joseph Friesenried\, Hauptstr. 34\, 87654 Friesenried
END:VEVENT
END:VCALENDAR
