BEGIN:VCALENDAR
VERSION:2.0
PRODID:-//Sabre//Sabre VObject 4.5.8//EN
CALSCALE:GREGORIAN
BEGIN:VEVENT
UID:sabre-vobject-4cfbc973-7495-4af0-82cc-4d5c24d50aa3
DTSTAMP:20260419T144014Z
SUMMARY:Vorabendmesse zum Sonntag als Floriansmesse v. Unterkreis\nanschl. 
 Einweihung Feuerwehranhänger
DESCRIPTION:https://pg-eggenthal.de/vorabendmesse-zum-sonntag-als-floriansm
 esse-v-unterkreis-anschl-einweihung-feuerwehranhaenger_id43838
DTSTART;TZID=Europe/Berlin:20260509T191500
DURATION:PT30M
LOCATION:Kirche St. Joseph Friesenried\, Hauptstr. 34\, 87654 Friesenried
END:VEVENT
END:VCALENDAR
