BEGIN:VCALENDAR
VERSION:2.0
PRODID:-//Sabre//Sabre VObject 4.5.8//EN
CALSCALE:GREGORIAN
BEGIN:VEVENT
UID:sabre-vobject-dd5ef314-7c6f-432d-99da-2fa7c08362b7
DTSTAMP:20260419T095200Z
SUMMARY:???? Bitt-Andacht in St. Bartholomä
DESCRIPTION:https://pg-eggenthal.de/bitt-andacht-in-st-bartholomae_id43839
DTSTART;TZID=Europe/Berlin:20260512T191500
DURATION:PT30M
LOCATION:Friedhofskirche St. Bartholomä\, St. Bartholomä 1\, 87654 Friese
 nried
END:VEVENT
END:VCALENDAR
