BEGIN:VCALENDAR
VERSION:2.0
PRODID:-//Sabre//Sabre VObject 4.5.8//EN
CALSCALE:GREGORIAN
BEGIN:VEVENT
UID:sabre-vobject-f0f88486-3b38-4e0e-8145-aec10b369a71
DTSTAMP:20260421T131551Z
SUMMARY:Beichtgelegenheit
DESCRIPTION:https://pg-eggenthal.de/beichtgelegenheit_id43853
DTSTART;TZID=Europe/Berlin:20260418T184500
DURATION:PT30M
LOCATION:Kirche Mariä Himmelfahrt Lauchdorf\, Alpenstraße 38\, 87650 Lauc
 hdorf Baisweil
END:VEVENT
END:VCALENDAR
