BEGIN:VCALENDAR
VERSION:2.0
PRODID:-//Sabre//Sabre VObject 4.5.8//EN
CALSCALE:GREGORIAN
BEGIN:VEVENT
UID:sabre-vobject-c6338702-827e-4e66-ad6a-784f5a6be9d1
DTSTAMP:20260419T132039Z
SUMMARY:Hl. Messe
DESCRIPTION:https://pg-eggenthal.de/hl-messe_id43857
DTSTART;TZID=Europe/Berlin:20260422T191500
DURATION:PT30M
LOCATION:Kirche Mariä Himmelfahrt Lauchdorf\, Alpenstraße 38\, 87650 Lauc
 hdorf Baisweil
END:VEVENT
END:VCALENDAR
