BEGIN:VCALENDAR
VERSION:2.0
PRODID:-//Sabre//Sabre VObject 4.5.8//EN
CALSCALE:GREGORIAN
BEGIN:VEVENT
UID:sabre-vobject-66aef6ec-15db-4471-a27e-b1bd9b8b8b8c
DTSTAMP:20260419T234439Z
SUMMARY:Beichtgelegenheit
DESCRIPTION:https://pg-eggenthal.de/beichtgelegenheit_id43858
DTSTART;TZID=Europe/Berlin:20260425T184500
DURATION:PT30M
LOCATION:Kirche Mariä Himmelfahrt Lauchdorf\, Alpenstraße 38\, 87650 Lauc
 hdorf Baisweil
END:VEVENT
END:VCALENDAR
