BEGIN:VCALENDAR
VERSION:2.0
PRODID:-//Sabre//Sabre VObject 4.5.8//EN
CALSCALE:GREGORIAN
BEGIN:VEVENT
UID:sabre-vobject-9a7f8b15-2e48-42e2-aeac-43d7f9866fcd
DTSTAMP:20260419T115110Z
SUMMARY:Rosenkranz für die Kranken in unserer Pfarrei
DESCRIPTION:https://pg-eggenthal.de/rosenkranz-fuer-die-kranken-in-unserer-
 pfarrei_id43861
DTSTART;TZID=Europe/Berlin:20260424T160000
DURATION:PT30M
LOCATION:Kirche St. Johannes Baptist Baisweil\, St.-Johannes-Straße 3\, 87
 650 Baisweil
END:VEVENT
END:VCALENDAR
