BEGIN:VCALENDAR
VERSION:2.0
PRODID:-//Sabre//Sabre VObject 4.5.8//EN
CALSCALE:GREGORIAN
BEGIN:VEVENT
UID:sabre-vobject-950e0336-a9cd-487e-8ddd-3b7e0ed30427
DTSTAMP:20260419T144046Z
SUMMARY:Rosenkranz für die Kranken in unserer Pfarrei
DESCRIPTION:https://pg-eggenthal.de/rosenkranz-fuer-die-kranken-in-unserer-
 pfarrei_id43867
DTSTART;TZID=Europe/Berlin:20260424T083000
DURATION:PT30M
LOCATION:Kirche St. Nikolaus Bayersried\, Bayersried 30\, 87653 Bayersried
END:VEVENT
END:VCALENDAR
