BEGIN:VCALENDAR
VERSION:2.0
PRODID:-//Sabre//Sabre VObject 4.5.8//EN
CALSCALE:GREGORIAN
BEGIN:VEVENT
UID:sabre-vobject-e4c031db-06fc-42fe-8f49-7983ee1c7f14
DTSTAMP:20260419T064859Z
SUMMARY:Pfarrgottesdienst in Eggenthal
DESCRIPTION:https://pg-eggenthal.de/pfarrgottesdienst-in-eggenthal_id43868
DTSTART;TZID=Europe/Berlin:20260426T000000
DURATION:PT30M
LOCATION:Kirche St. Nikolaus Bayersried\, Bayersried 30\, 87653 Bayersried
END:VEVENT
END:VCALENDAR
