BEGIN:VCALENDAR
VERSION:2.0
PRODID:-//Sabre//Sabre VObject 4.5.8//EN
CALSCALE:GREGORIAN
BEGIN:VEVENT
UID:sabre-vobject-7d49bf40-6180-4893-b045-d9bde64d7bc0
DTSTAMP:20260419T143214Z
SUMMARY:Vorabendmesse zum Hochfest Maria Schutzfrau von Bayern
DESCRIPTION:https://pg-eggenthal.de/vorabendmesse-zum-hochfest-maria-schutz
 frau-von-bayern_id43869
DTSTART;TZID=Europe/Berlin:20260430T191500
DURATION:PT30M
LOCATION:Kirche St. Nikolaus Bayersried\, Bayersried 30\, 87653 Bayersried
END:VEVENT
END:VCALENDAR
