BEGIN:VCALENDAR
VERSION:2.0
PRODID:-//Sabre//Sabre VObject 4.5.8//EN
CALSCALE:GREGORIAN
BEGIN:VEVENT
UID:sabre-vobject-ea0e4de9-ef91-41e4-9d9e-b3593a01fa29
DTSTAMP:20260421T144630Z
SUMMARY:Probe der Erstkommunionkinder
DESCRIPTION:https://pg-eggenthal.de/probe-der-erstkommunionkinder_id43870
DTSTART;TZID=Europe/Berlin:20260418T140000
DURATION:PT30M
LOCATION:Kirche St. Afra Eggenthal\, Kirchenstraße 10\, 87653 Eggenthal
END:VEVENT
END:VCALENDAR
