BEGIN:VCALENDAR
VERSION:2.0
PRODID:-//Sabre//Sabre VObject 4.5.8//EN
CALSCALE:GREGORIAN
BEGIN:VEVENT
UID:sabre-vobject-4b9cb003-2d4d-42b4-922d-134d35747ce6
DTSTAMP:20260419T080153Z
SUMMARY:Festgottesdienst mit Erstkommunionfeier
DESCRIPTION:https://pg-eggenthal.de/festgottesdienst-mit-erstkommunionfeier
 _id43871
DTSTART;TZID=Europe/Berlin:20260419T100000
DURATION:PT30M
LOCATION:Kirche St. Afra Eggenthal\, Kirchenstraße 10\, 87653 Eggenthal
END:VEVENT
END:VCALENDAR
