BEGIN:VCALENDAR
VERSION:2.0
PRODID:-//Sabre//Sabre VObject 4.5.8//EN
CALSCALE:GREGORIAN
BEGIN:VEVENT
UID:sabre-vobject-c80e8c63-2f63-4229-9504-615023b58c00
DTSTAMP:20260419T144734Z
SUMMARY:Dankandacht mit Opfergabe der Erstkommunionkinder
DESCRIPTION:https://pg-eggenthal.de/dankandacht-mit-opfergabe-der-erstkommu
 nionkinder_id43872
DTSTART;TZID=Europe/Berlin:20260419T170000
DURATION:PT30M
LOCATION:Kirche St. Afra Eggenthal\, Kirchenstraße 10\, 87653 Eggenthal
END:VEVENT
END:VCALENDAR
