BEGIN:VCALENDAR
VERSION:2.0
PRODID:-//Sabre//Sabre VObject 4.5.8//EN
CALSCALE:GREGORIAN
BEGIN:VEVENT
UID:sabre-vobject-a58066f4-0316-48ff-98c5-3dad689e393c
DTSTAMP:20260419T125637Z
SUMMARY:Rosenkranz für die Kranken in unserer Pfarrei
DESCRIPTION:https://pg-eggenthal.de/rosenkranz-fuer-die-kranken-in-unserer-
 pfarrei_id43874
DTSTART;TZID=Europe/Berlin:20260422T080000
DURATION:PT30M
LOCATION:Kirche St. Afra Eggenthal\, Kirchenstraße 10\, 87653 Eggenthal
END:VEVENT
END:VCALENDAR
