BEGIN:VCALENDAR
VERSION:2.0
PRODID:-//Sabre//Sabre VObject 4.5.8//EN
CALSCALE:GREGORIAN
BEGIN:VEVENT
UID:sabre-vobject-0780c473-0a69-4cd3-99b6-101352630072
DTSTAMP:20260419T142705Z
SUMMARY:Pfarrgottesdienst
DESCRIPTION:https://pg-eggenthal.de/pfarrgottesdienst_id43876
DTSTART;TZID=Europe/Berlin:20260426T083000
DURATION:PT30M
LOCATION:Kirche St. Afra Eggenthal\, Kirchenstraße 10\, 87653 Eggenthal
END:VEVENT
END:VCALENDAR
