BEGIN:VCALENDAR
VERSION:2.0
PRODID:-//Sabre//Sabre VObject 4.5.8//EN
CALSCALE:GREGORIAN
BEGIN:VEVENT
UID:sabre-vobject-640fb1aa-4310-4cfc-96ca-4123f1830682
DTSTAMP:20260419T123815Z
SUMMARY:Rosenkranz für die Kranken in unserer Pfarrei
DESCRIPTION:https://pg-eggenthal.de/rosenkranz-fuer-die-kranken-in-unserer-
 pfarrei_id43880
DTSTART;TZID=Europe/Berlin:20260420T080000
DURATION:PT30M
LOCATION:Kirche St. Wolfgang Blöcktach\, Schwarzenburgstraße 8\, 87654 Bl
 öcktach Friesenried
END:VEVENT
END:VCALENDAR
