BEGIN:VCALENDAR
VERSION:2.0
PRODID:-//Sabre//Sabre VObject 4.5.8//EN
CALSCALE:GREGORIAN
BEGIN:VEVENT
UID:sabre-vobject-38df7843-517b-460a-bb8c-2dd569ff440f
DTSTAMP:20260421T092136Z
SUMMARY:Beichte der Erstkommunionkinder
DESCRIPTION:https://pg-eggenthal.de/beichte-der-erstkommunionkinder_id43884
DTSTART;TZID=Europe/Berlin:20260423T150000
DURATION:PT30M
LOCATION:Kirche St. Wolfgang Blöcktach\, Schwarzenburgstraße 8\, 87654 Bl
 öcktach Friesenried
END:VEVENT
END:VCALENDAR
