BEGIN:VCALENDAR
VERSION:2.0
PRODID:-//Sabre//Sabre VObject 4.5.8//EN
CALSCALE:GREGORIAN
BEGIN:VEVENT
UID:sabre-vobject-68485ab6-8419-43d6-bd73-141baeb998b6
DTSTAMP:20260419T132408Z
SUMMARY:Dankandacht mit Opfergabe der Erstkommunionkinder
DESCRIPTION:https://pg-eggenthal.de/dankandacht-mit-opfergabe-der-erstkommu
 nionkinder_id43890
DTSTART;TZID=Europe/Berlin:20260426T170000
DURATION:PT30M
LOCATION:Kirche St. Wolfgang Blöcktach\, Schwarzenburgstraße 8\, 87654 Bl
 öcktach Friesenried
END:VEVENT
END:VCALENDAR
