BEGIN:VCALENDAR
VERSION:2.0
PRODID:-//Sabre//Sabre VObject 4.5.8//EN
CALSCALE:GREGORIAN
BEGIN:VEVENT
UID:sabre-vobject-e5b93f23-7466-4323-a41d-b9a493a03ce3
DTSTAMP:20260419T131946Z
SUMMARY:Rosenkranz um Priester und Ordensberufe
DESCRIPTION:https://pg-eggenthal.de/rosenkranz-um-priester-und-ordensberufe
 _id43893
DTSTART;TZID=Europe/Berlin:20260429T080000
DURATION:PT30M
LOCATION:Kirche St. Wolfgang Blöcktach\, Schwarzenburgstraße 8\, 87654 Bl
 öcktach Friesenried
END:VEVENT
END:VCALENDAR
