BEGIN:VCALENDAR
VERSION:2.0
PRODID:-//Sabre//Sabre VObject 4.5.8//EN
CALSCALE:GREGORIAN
BEGIN:VEVENT
UID:sabre-vobject-020bef48-5638-4fa8-9f08-2eb0225e4e07
DTSTAMP:20260419T143535Z
SUMMARY:Rosenkranz für die Kranken in unserer Pfarrei
DESCRIPTION:https://pg-eggenthal.de/rosenkranz-fuer-die-kranken-in-unserer-
 pfarrei_id43894
DTSTART;TZID=Europe/Berlin:20260422T081500
DURATION:PT30M
LOCATION:Kirche St. Joseph Friesenried\, Hauptstr. 34\, 87654 Friesenried
END:VEVENT
END:VCALENDAR
